Workbook
Name GroupResult: 'Data Sheet'!$A$2:$S$2
Name KnockoutResults: 'Data Sheet'!$U$2:$AN$2

Sheet Input Sheet GROUP
B2: The Beautiful Pool 2024 - GOUP STAGE ENTRY SHEET
B4: Your Name: | L4: Your email:
B6: STEP 1 - Choose all 1st and 2nd Place Qualifiers
C8: Group A | L8: Group D
C9: Germany | E9: GER | F9: 1st | L9: 1st | M9: NED | N9: Netherlands
C10: Scotland | E10: SCO | M10: FRA | N10: France
C11: Hungary | E11: HUN | F11: 2nd | L11: 2nd | M11: POL | N11: Poland
C12: Switzerland | E12: SUI | M12: AUT | N12: Austria
C15: Group B | L15: Group E
C16: Spain | E16: ESP | F16: 1st | L16: 1st | M16: UKR | N16: Ukraine
C17: Croatia | E17: CRO | M17: SVK | N17: Slovakia
C18: Italy | E18: ITA | F18: 2nd | L18: 2nd | M18: BEL | N18: Belgium
C19: Albania | E19: ALB | M19: ROU | N19: Romania
C22: Group C | L22: Group F
C23: Slovenia | E23: SVN | F23: 1st | L23: 1st | M23: POR | N23: Portugal
C24: Denmark | E24: DEN | M24: CZE | N24: Czechia
C25: Serbia | E25: SRB | F25: 2nd | L25: 2nd | M25: GEO | N25: Georgia
C26: England | E26: ENG | M26: TUR | N26: Türkiye
B29: Step 2 - 3rd Place Qualifiers - Choose 4 (and only 4)
C31: Group A | G31: =IF(AND(ISBLANK(F31)=FALSE,OR(F31=F10,F31=F12)),"X","") | H31: =IF(COUNTA(F31,F33,F35,L31,L33,L35)>4,"TOO MANY PICKS","") | K31: =IF(AND(ISBLANK(L31)=FALSE,OR(L31=L10,L31=L12)),"X","") | M31: Group D
C33: Group B | G33: =IF(AND(ISBLANK(F33)=FALSE,OR(F33=F17,F33=F19)),"X","") | K33: =IF(AND(ISBLANK(L33)=FALSE,OR(L33=L17,L33=L19)),"X","") | M33: Group E
C35: Group C | G35: =IF(AND(ISBLANK(F35)=FALSE,OR(F35=F24,F35=F26)),"X","") | K35: =IF(AND(ISBLANK(L35)=FALSE,OR(L35=L24,L35=L26)),"X","") | M35: Group F

Sheet Input Sheet - KNOCKOUT
E2: The Beautiful Pool 2024 - KNOCKOUT ENTRY SHEET
E4: Your Name: | O4: Your email:
E6: Elimination Round
F8: 37 | R8: 38
A9: 45 | B9: 37 | C9: =F9 -> 0
B10: 39 | C10: =F13 -> 0 | F10: A1 vs C2 | H10: 45 | J10: Euro 2024 Champions | P10: 48 | R10: A2 vs B2
A12: 46 | B12: 41 | C12: =F17 -> 0 | F12: 39 | H12: 37 vs 39 | K12: 49 vs 50 | P12: 38 vs 40 | R12: 40
B13: 42 | C13: =F21 -> 0
F14: B1 vs X3.1 | J14: 49 | N14: 50 | R14: C1 vs X3.2
A15: 47 | B15: 43 | C15: =R17 -> 0
B16: 44 | C16: =R21 -> 0 | F16: 41 | J16: 45 vs 46 | M16: 47 vs 48 | R16: 43
A18: 48 | B18: 38 | C18: =R9 -> 0 | F18: F1 vs X3.3 | H18: 46 | K18: 2nd Place | P18: 47 | R18: E1 vs X3.4
B19: 40 | C19: =R13 -> 0 | K19: =IF(ISBLANK(K11)=TRUE,"",IF(K11=C27,C28,C27))
F20: 42 | H20: 41 vs 42 | P20: 43 vs 44 | R20: 44
A21: 49 | B21: 45 | C21: =H11 -> 0
B22: 46 | C22: =H19 -> 0 | F22: D2 vs E2 | R22: D1 vs F2
A24: 50 | B24: 47 | C24: =P19 -> 0
B25: 48 | C25: =P11 -> 0
A27: 51 | B27: 49 | C27: =J15 -> 0
B28: 50 | C28: =M15 -> 0
B30: Cup | C30: =+K11 -> 0
B31: 2nd | C31: =K19

Sheet GROUP Actual Results
A3: 37 | B3: GER | C3: =B3 -> GER
B4: DEN | C4: =B4 -> DEN
A6: 38 | B6: SUI | C6: =B6 -> SUI
B7: ITA | C7: =B7 -> ITA
A9: 39 | B9: ESP | C9: =B9 -> ESP
B10: GEO | C10: =B10 -> GEO
A12: 40 | B12: ENG | C12: =B12 -> ENG
B13: SVK | C13: =B13 -> SVK
A15: 41 | B15: POR | C15: =B15 -> POR
B16: SVN | C16: =B16 -> SVN
A18: 42 | B18: FRA | C18: =B18 -> FRA
B19: BEL | C19: =B19 -> BEL
A21: 43 | B21: ROU | C21: =B21 -> ROU
B22: NED | C22: =B22 -> NED
A24: 44 | B24: AUS | C24: =B24 -> AUS
B25: TUR | C25: =B25 -> TUR

Sheet Data Sheet
B1: 1A | C1: 2A | D1: 1B | E1: 2B | F1: 1C | G1: 2C | H1: 1D | I1: 2D | J1: 1E | K1: 2E | L1: 1F | M1: 2F | N1: 3.1 | O1: 3.2 | P1: 3.3 | Q1: 3.4 | R1: 3.5 | S1: 3.6 | V1: 37 | W1: 38 | X1: 39 | Y1: 40 | Z1: 41 | AA1: 42 | AB1: 43 | AC1: 44 | AE1: 45 | AF1: 46 | AG1: 47 | AH1: 48 | AJ1: 49 | AK1: 50 | AM1: 51 | AN1: R/U
A2: ='Input Sheet GROUP'!D4 -> 0 | B2: ='Input Sheet GROUP'!$F$10 -> 0 | C2: ='Input Sheet GROUP'!$F$12 -> 0 | D2: ='Input Sheet GROUP'!$F$17 -> 0 | E2: ='Input Sheet GROUP'!$F19 -> 0 | F2: ='Input Sheet GROUP'!$F24 -> 0 | G2: ='Input Sheet GROUP'!$F26 -> 0 | H2: ='Input Sheet GROUP'!$L10 -> 0 | I2: ='Input Sheet GROUP'!$L12 -> 0 | J2: ='Input Sheet GROUP'!$L17 -> 0 | K2: ='Input Sheet GROUP'!$L19 -> 0 | L2: ='Input Sheet GROUP'!$L24 -> 0 | M2: ='Input Sheet GROUP'!$L26 -> 0 | N2: ='Input Sheet GROUP'!$F31 -> 0 | O2: ='Input Sheet GROUP'!$F33 -> 0 | P2: ='Input Sheet GROUP'!$F35 -> 0 | Q2: ='Input Sheet GROUP'!$L31 -> 0 | R2: ='Input Sheet GROUP'!$L33 -> 0 | S2: ='Input Sheet GROUP'!$L35 -> 0 | U2: ='Input Sheet - KNOCKOUT'!G4 -> 0 | V2: ='Input Sheet - KNOCKOUT'!F9 -> 0 | W2: ='Input Sheet - KNOCKOUT'!R9 -> 0 | X2: ='Input Sheet - KNOCKOUT'!F13 -> 0 | Y2: ='Input Sheet - KNOCKOUT'!R13 -> 0 | Z2: ='Input Sheet - KNOCKOUT'!F17 -> 0 | AA2: ='Input Sheet - KNOCKOUT'!F21 -> 0 | AB2: ='Input Sheet - KNOCKOUT'!R17 -> 0 | AC2: ='Input Sheet - KNOCKOUT'!R21 -> 0 | AE2: ='Input Sheet - KNOCKOUT'!H11 -> 0 | AF2: ='Input Sheet - KNOCKOUT'!H19 -> 0 | AG2: ='Input Sheet - KNOCKOUT'!P19 -> 0 | AH2: ='Input Sheet - KNOCKOUT'!P11 -> 0 | AJ2: ='Input Sheet - KNOCKOUT'!J15 -> 0 | AK2: ='Input Sheet - KNOCKOUT'!M15 -> 0 | AM2: ='Input Sheet - KNOCKOUT'!K11 -> 0 | AN2: ='Input Sheet - KNOCKOUT'!K19
